BEGIN:VCALENDAR
VERSION:2.0
PRODID:-//Poulton with Fearnhead Parish Council//Meeting Calendar//EN
CALSCALE:GREGORIAN
METHOD:PUBLISH
BEGIN:VEVENT
UID:70863-20260427@pwf-pc.gov.uk
DTSTAMP:20260421T081811Z
DTSTART;VALUE=DATE:20260427
DTEND;VALUE=DATE:20260428
SUMMARY:Full Council 27.04.26
DESCRIPTION:Full Council Meeting\nView details: https://pwf-pc.gov.uk/meetings/full-council-27-04-26/
URL:https://pwf-pc.gov.uk/meetings/full-council-27-04-26/
END:VEVENT
END:VCALENDAR
